BEGIN:VCALENDAR
VERSION:2.0
PRODID:-//Biker Crew Kavallerie - ECPv6.15.20//NONSGML v1.0//EN
CALSCALE:GREGORIAN
METHOD:PUBLISH
X-WR-CALNAME:Biker Crew Kavallerie
X-ORIGINAL-URL:https://biker-crew.de
X-WR-CALDESC:Veranstaltungen für Biker Crew Kavallerie
REFRESH-INTERVAL;VALUE=DURATION:PT1H
X-Robots-Tag:noindex
X-PUBLISHED-TTL:PT1H
BEGIN:VTIMEZONE
TZID:Europe/Berlin
BEGIN:DAYLIGHT
TZOFFSETFROM:+0100
TZOFFSETTO:+0200
TZNAME:CEST
DTSTART:20230326T010000
END:DAYLIGHT
BEGIN:STANDARD
TZOFFSETFROM:+0200
TZOFFSETTO:+0100
TZNAME:CET
DTSTART:20231029T010000
END:STANDARD
BEGIN:DAYLIGHT
TZOFFSETFROM:+0100
TZOFFSETTO:+0200
TZNAME:CEST
DTSTART:20240331T010000
END:DAYLIGHT
BEGIN:STANDARD
TZOFFSETFROM:+0200
TZOFFSETTO:+0100
TZNAME:CET
DTSTART:20241027T010000
END:STANDARD
BEGIN:DAYLIGHT
TZOFFSETFROM:+0100
TZOFFSETTO:+0200
TZNAME:CEST
DTSTART:20250330T010000
END:DAYLIGHT
BEGIN:STANDARD
TZOFFSETFROM:+0200
TZOFFSETTO:+0100
TZNAME:CET
DTSTART:20251026T010000
END:STANDARD
END:VTIMEZONE
BEGIN:VEVENT
DTSTART;TZID=Europe/Berlin:20240410T180000
DTEND;TZID=Europe/Berlin:20240410T230000
DTSTAMP:20260419T173122
CREATED:20240319T130604Z
LAST-MODIFIED:20240319T131827Z
UID:8670-1712772000-1712790000@biker-crew.de
SUMMARY:-BCK- Stammtisch
DESCRIPTION:
URL:https://biker-crew.de/event/bck-stammtisch-12/
LOCATION:BCK-Member\, Bayern\, Deutschland
CATEGORIES:*Members only,Stammtisch
ATTACH;FMTTYPE=image/png:https://biker-crew.de/wp-content/uploads/2023/01/BCK_Colour_small.png
END:VEVENT
END:VCALENDAR