BEGIN:VCALENDAR
VERSION:2.0
PRODID:-//Biker Crew Kavallerie - ECPv6.15.20//NONSGML v1.0//EN
CALSCALE:GREGORIAN
METHOD:PUBLISH
X-ORIGINAL-URL:https://biker-crew.de
X-WR-CALDESC:Veranstaltungen für Biker Crew Kavallerie
REFRESH-INTERVAL;VALUE=DURATION:PT1H
X-Robots-Tag:noindex
X-PUBLISHED-TTL:PT1H
BEGIN:VTIMEZONE
TZID:Europe/Berlin
BEGIN:DAYLIGHT
TZOFFSETFROM:+0100
TZOFFSETTO:+0200
TZNAME:CEST
DTSTART:20240331T010000
END:DAYLIGHT
BEGIN:STANDARD
TZOFFSETFROM:+0200
TZOFFSETTO:+0100
TZNAME:CET
DTSTART:20241027T010000
END:STANDARD
BEGIN:DAYLIGHT
TZOFFSETFROM:+0100
TZOFFSETTO:+0200
TZNAME:CEST
DTSTART:20250330T010000
END:DAYLIGHT
BEGIN:STANDARD
TZOFFSETFROM:+0200
TZOFFSETTO:+0100
TZNAME:CET
DTSTART:20251026T010000
END:STANDARD
BEGIN:DAYLIGHT
TZOFFSETFROM:+0100
TZOFFSETTO:+0200
TZNAME:CEST
DTSTART:20260329T010000
END:DAYLIGHT
BEGIN:STANDARD
TZOFFSETFROM:+0200
TZOFFSETTO:+0100
TZNAME:CET
DTSTART:20261025T010000
END:STANDARD
END:VTIMEZONE
BEGIN:VEVENT
DTSTART;TZID=Europe/Berlin:20250328T180000
DTEND;TZID=Europe/Berlin:20250328T220000
DTSTAMP:20260425T183827
CREATED:20250301T213854Z
LAST-MODIFIED:20250301T223609Z
UID:8779-1743184800-1743199200@biker-crew.de
SUMMARY:MST - Stammtisch
DESCRIPTION:
URL:https://biker-crew.de/event/mst-stammtisch/
LOCATION:Salzburgring\, Müllnerfeld\, Koppl\, Salzburg\, 5321\, Österreich
CATEGORIES:+open for @ll,Stammtisch
ATTACH;FMTTYPE=image/jpeg:https://biker-crew.de/wp-content/uploads/2023/07/placeholder.jpg
END:VEVENT
END:VCALENDAR