BEGIN:VCALENDAR
VERSION:2.0
PRODID:-//Biker Crew Kavallerie - ECPv6.15.20//NONSGML v1.0//EN
CALSCALE:GREGORIAN
METHOD:PUBLISH
X-WR-CALNAME:Biker Crew Kavallerie
X-ORIGINAL-URL:https://biker-crew.de
X-WR-CALDESC:Veranstaltungen für Biker Crew Kavallerie
REFRESH-INTERVAL;VALUE=DURATION:PT1H
X-Robots-Tag:noindex
X-PUBLISHED-TTL:PT1H
BEGIN:VTIMEZONE
TZID:Europe/Berlin
BEGIN:DAYLIGHT
TZOFFSETFROM:+0100
TZOFFSETTO:+0200
TZNAME:CEST
DTSTART:20250330T010000
END:DAYLIGHT
BEGIN:STANDARD
TZOFFSETFROM:+0200
TZOFFSETTO:+0100
TZNAME:CET
DTSTART:20251026T010000
END:STANDARD
BEGIN:DAYLIGHT
TZOFFSETFROM:+0100
TZOFFSETTO:+0200
TZNAME:CEST
DTSTART:20260329T010000
END:DAYLIGHT
BEGIN:STANDARD
TZOFFSETFROM:+0200
TZOFFSETTO:+0100
TZNAME:CET
DTSTART:20261025T010000
END:STANDARD
BEGIN:DAYLIGHT
TZOFFSETFROM:+0100
TZOFFSETTO:+0200
TZNAME:CEST
DTSTART:20270328T010000
END:DAYLIGHT
BEGIN:STANDARD
TZOFFSETFROM:+0200
TZOFFSETTO:+0100
TZNAME:CET
DTSTART:20271031T010000
END:STANDARD
END:VTIMEZONE
BEGIN:VEVENT
DTSTART;TZID=Europe/Berlin:20260327T190000
DTEND;TZID=Europe/Berlin:20260327T220000
DTSTAMP:20260419T190304
CREATED:20260326T164139Z
LAST-MODIFIED:20260326T164139Z
UID:8954-1774638000-1774648800@biker-crew.de
SUMMARY:BCK - Stammtisch (in Magdeburg)
DESCRIPTION:
URL:https://biker-crew.de/event/bck-stammtisch-in-magdeburg/
LOCATION:BCK – Magdeburg\, Magdeburg\, Germany
CATEGORIES:+open for @ll
ATTACH;FMTTYPE=image/png:https://biker-crew.de/wp-content/uploads/2026/03/BCK_MD.png
END:VEVENT
END:VCALENDAR