BEGIN:VCALENDAR
VERSION:2.0
PRODID:-//Biker Crew Kavallerie - ECPv6.15.20//NONSGML v1.0//EN
CALSCALE:GREGORIAN
METHOD:PUBLISH
X-WR-CALNAME:Biker Crew Kavallerie
X-ORIGINAL-URL:https://biker-crew.de
X-WR-CALDESC:Veranstaltungen für Biker Crew Kavallerie
REFRESH-INTERVAL;VALUE=DURATION:PT1H
X-Robots-Tag:noindex
X-PUBLISHED-TTL:PT1H
BEGIN:VTIMEZONE
TZID:Europe/Berlin
BEGIN:DAYLIGHT
TZOFFSETFROM:+0100
TZOFFSETTO:+0200
TZNAME:CEST
DTSTART:20240331T010000
END:DAYLIGHT
BEGIN:STANDARD
TZOFFSETFROM:+0200
TZOFFSETTO:+0100
TZNAME:CET
DTSTART:20241027T010000
END:STANDARD
BEGIN:DAYLIGHT
TZOFFSETFROM:+0100
TZOFFSETTO:+0200
TZNAME:CEST
DTSTART:20250330T010000
END:DAYLIGHT
BEGIN:STANDARD
TZOFFSETFROM:+0200
TZOFFSETTO:+0100
TZNAME:CET
DTSTART:20251026T010000
END:STANDARD
BEGIN:DAYLIGHT
TZOFFSETFROM:+0100
TZOFFSETTO:+0200
TZNAME:CEST
DTSTART:20260329T010000
END:DAYLIGHT
BEGIN:STANDARD
TZOFFSETFROM:+0200
TZOFFSETTO:+0100
TZNAME:CET
DTSTART:20261025T010000
END:STANDARD
END:VTIMEZONE
BEGIN:VEVENT
DTSTART;VALUE=DATE:20250427
DTEND;VALUE=DATE:20250508
DTSTAMP:20260423T031106
CREATED:20250428T195617Z
LAST-MODIFIED:20250428T195617Z
UID:8816-1745712000-1746662399@biker-crew.de
SUMMARY:Sizilien Tour 04/2025
DESCRIPTION:
URL:https://biker-crew.de/event/sizilien-tour-04-2025/
CATEGORIES:+open for @ll,Einladung oder Bestätigung erforderlich!,Tour
ATTACH;FMTTYPE=image/png:https://biker-crew.de/wp-content/uploads/2023/01/BCK_Colour_small.png
END:VEVENT
BEGIN:VEVENT
DTSTART;TZID=Europe/Berlin:20250501T070000
DTEND;TZID=Europe/Berlin:20250508T200000
DTSTAMP:20260423T031106
CREATED:20250422T173525Z
LAST-MODIFIED:20250422T173525Z
UID:8808-1746082800-1746734400@biker-crew.de
SUMMARY:Balkantour 5/2025
DESCRIPTION:
URL:https://biker-crew.de/event/balkantour-5-2025/
CATEGORIES:*Members only,Tour
ATTACH;FMTTYPE=image/png:https://biker-crew.de/wp-content/uploads/2023/01/BCK_Colour_small.png
END:VEVENT
BEGIN:VEVENT
DTSTART;TZID=Europe/Berlin:20250514T180000
DTEND;TZID=Europe/Berlin:20250514T230000
DTSTAMP:20260423T031106
CREATED:20250422T173147Z
LAST-MODIFIED:20250422T173147Z
UID:8806-1747245600-1747263600@biker-crew.de
SUMMARY:-BCK- Stammtisch
DESCRIPTION:
URL:https://biker-crew.de/event/bck-stammtisch-21/
CATEGORIES:Einladung oder Bestätigung erforderlich!,Stammtisch
ATTACH;FMTTYPE=image/png:https://biker-crew.de/wp-content/uploads/2023/01/BCK_Colour_small.png
END:VEVENT
BEGIN:VEVENT
DTSTART;TZID=Europe/Berlin:20250516T180000
DTEND;TZID=Europe/Berlin:20250518T120000
DTSTAMP:20260423T031106
CREATED:20250313T205642Z
LAST-MODIFIED:20250313T205642Z
UID:8784-1747418400-1747569600@biker-crew.de
SUMMARY:Knighthood 2025
DESCRIPTION:Veranstalter – Crusader MC Austria Westside \nGschwandt 5\, 4822 Bad Goisern am Hallstättersee\, Österreich \n 
URL:https://biker-crew.de/event/knighthood-2025/
CATEGORIES:Feier
ATTACH;FMTTYPE=image/jpeg:https://biker-crew.de/wp-content/uploads/2023/07/placeholder.jpg
END:VEVENT
BEGIN:VEVENT
DTSTART;TZID=Europe/Berlin:20250524T190000
DTEND;TZID=Europe/Berlin:20250525T040000
DTSTAMP:20260423T031106
CREATED:20250118T202722Z
LAST-MODIFIED:20250313T205733Z
UID:8765-1748113200-1748145600@biker-crew.de
SUMMARY:40 Jahre - Road Rebels MC
DESCRIPTION:
URL:https://biker-crew.de/event/40-jahre-road-rebels-mc/
LOCATION:München\, München\, Bayern\, Germany
CATEGORIES:Feier
ATTACH;FMTTYPE=image/jpeg:https://biker-crew.de/wp-content/uploads/2023/07/placeholder.jpg
END:VEVENT
END:VCALENDAR