BEGIN:VCALENDAR
VERSION:2.0
PRODID:-//Biker Crew Kavallerie - ECPv6.15.20//NONSGML v1.0//EN
CALSCALE:GREGORIAN
METHOD:PUBLISH
X-WR-CALNAME:Biker Crew Kavallerie
X-ORIGINAL-URL:https://biker-crew.de
X-WR-CALDESC:Veranstaltungen für Biker Crew Kavallerie
REFRESH-INTERVAL;VALUE=DURATION:PT1H
X-Robots-Tag:noindex
X-PUBLISHED-TTL:PT1H
BEGIN:VTIMEZONE
TZID:Europe/Berlin
BEGIN:DAYLIGHT
TZOFFSETFROM:+0100
TZOFFSETTO:+0200
TZNAME:CEST
DTSTART:20250330T010000
END:DAYLIGHT
BEGIN:STANDARD
TZOFFSETFROM:+0200
TZOFFSETTO:+0100
TZNAME:CET
DTSTART:20251026T010000
END:STANDARD
BEGIN:DAYLIGHT
TZOFFSETFROM:+0100
TZOFFSETTO:+0200
TZNAME:CEST
DTSTART:20260329T010000
END:DAYLIGHT
BEGIN:STANDARD
TZOFFSETFROM:+0200
TZOFFSETTO:+0100
TZNAME:CET
DTSTART:20261025T010000
END:STANDARD
BEGIN:DAYLIGHT
TZOFFSETFROM:+0100
TZOFFSETTO:+0200
TZNAME:CEST
DTSTART:20270328T010000
END:DAYLIGHT
BEGIN:STANDARD
TZOFFSETFROM:+0200
TZOFFSETTO:+0100
TZNAME:CET
DTSTART:20271031T010000
END:STANDARD
END:VTIMEZONE
BEGIN:VEVENT
DTSTART;VALUE=DATE:20260604
DTEND;VALUE=DATE:20260608
DTSTAMP:20260419T190250
CREATED:20260306T204052Z
LAST-MODIFIED:20260306T204052Z
UID:8923-1780531200-1780876799@biker-crew.de
SUMMARY:BCK - Kurztrip
DESCRIPTION:
URL:https://biker-crew.de/event/bck-kurztrip-3/
CATEGORIES:+open for @ll
ATTACH;FMTTYPE=image/png:https://biker-crew.de/wp-content/uploads/2023/01/BCK_Colour_small.png
END:VEVENT
BEGIN:VEVENT
DTSTART;TZID=Europe/Berlin:20260627T140000
DTEND;TZID=Europe/Berlin:20260627T233000
DTSTAMP:20260419T190250
CREATED:20260326T163147Z
LAST-MODIFIED:20260326T163233Z
UID:8949-1782568800-1782603000@biker-crew.de
SUMMARY:MST-Hütten Party
DESCRIPTION:
URL:https://biker-crew.de/event/mst-huetten-party/
LOCATION:Salzburgring\, Müllnerfeld\, Koppl\, Salzburg\, 5321\, Österreich
CATEGORIES:Feier
ATTACH;FMTTYPE=image/jpeg:https://biker-crew.de/wp-content/uploads/2026/03/MST_HuetteP.jpg
END:VEVENT
END:VCALENDAR